BEGIN:VCALENDAR
VERSION:2.0
PRODID:-//FILEY - ECPv5.14.2.1//NONSGML v1.0//EN
CALSCALE:GREGORIAN
METHOD:PUBLISH
X-WR-CALNAME:FILEY
X-ORIGINAL-URL:https://filey.org
X-WR-CALDESC:Eventos para FILEY
REFRESH-INTERVAL;VALUE=DURATION:PT1H
X-Robots-Tag:noindex
X-PUBLISHED-TTL:PT1H
BEGIN:VTIMEZONE
TZID:America/Merida
BEGIN:DAYLIGHT
TZOFFSETFROM:-0600
TZOFFSETTO:-0500
TZNAME:CDT
DTSTART:20210404T080000
END:DAYLIGHT
BEGIN:STANDARD
TZOFFSETFROM:-0500
TZOFFSETTO:-0600
TZNAME:CST
DTSTART:20211031T070000
END:STANDARD
END:VTIMEZONE
BEGIN:VEVENT
DTSTART;TZID=America/Merida:20210910T174500
DTEND;TZID=America/Merida:20210910T200000
DTSTAMP:20260422T133832
CREATED:20210901T185253Z
LAST-MODIFIED:20210906T164409Z
UID:4852-1631295900-1631304000@filey.org
SUMMARY:VI Encuentro Cultural y Literario
DESCRIPTION:Antigüedades y futuras antigüedades: saberes y palabras que se quedan \n\n\n\n\n\nAl cumplirse quinientos años de la caída de Tenochtitlán y otros tantos de resistencia indígena\, escritores y académicos de instituciones de México\, Estados Unidos y Europa\, convocados por la FILEY y UC-Mexicanistas\, abordarán la presencia de las culturas originarias de nuestro país en los saberes\, la palabra\, la literatura\, las artes\, la comida\, los ritos\, las costumbres y las creencias de hoy. \n\n\n\nBienvenida \n\n\n\nPrimera sesión: El plural está en nuestras lenguas \n\n\n\nSegunda sesión: El arte en el agua\, el aire\, el fuego y la tierra
URL:https://filey.org/cartelera-evento/vi-encuentro-cultural-y-literario/
ATTACH;FMTTYPE=image/jpeg:https://filey.org/wp-content/uploads/2021/09/WhatsApp-Image-2021-09-02-at-12.39.50-PM.jpeg
END:VEVENT
END:VCALENDAR