BEGIN:VCALENDAR
VERSION:2.0
PRODID:-//FILEY - ECPv5.14.2.1//NONSGML v1.0//EN
CALSCALE:GREGORIAN
METHOD:PUBLISH
X-WR-CALNAME:FILEY
X-ORIGINAL-URL:https://filey.org
X-WR-CALDESC:Eventos para FILEY
REFRESH-INTERVAL;VALUE=DURATION:PT1H
X-Robots-Tag:noindex
X-PUBLISHED-TTL:PT1H
BEGIN:VTIMEZONE
TZID:America/Merida
BEGIN:DAYLIGHT
TZOFFSETFROM:-0600
TZOFFSETTO:-0500
TZNAME:CDT
DTSTART:20210404T080000
END:DAYLIGHT
BEGIN:STANDARD
TZOFFSETFROM:-0500
TZOFFSETTO:-0600
TZNAME:CST
DTSTART:20211031T070000
END:STANDARD
END:VTIMEZONE
BEGIN:VEVENT
DTSTART;TZID=America/Merida:20210923T200000
DTEND;TZID=America/Merida:20210923T210000
DTSTAMP:20260422T134555
CREATED:20210921T203454Z
LAST-MODIFIED:20210921T203455Z
UID:5009-1632427200-1632430800@filey.org
SUMMARY:Retrospectiva de una aguja
DESCRIPTION:Nos unimos al Museo Palacio Cantón en la presentación del libro «Retrospectiva de una aguja» de Elena Martínez Bolio. En esta publicación es palpable la inclinación de la artista hacia la escritura narrativa y el ensayo\, y se pueden apreciar algunas de sus obras personales\, así como piezas que ha realizado para el hogar y como vestimenta\, además de adentrarnos en su espacio creativo\, su casa taller. \n\n\n\n \n\n\n\nSobre la autora \n\n\n\nEstudió pintura en el Centro Estatal de Bellas Artes de Mérida\, se formó en escultura y grabado y fue la primera mujer aceptada en talla de madera de la institución. Estudió Teología mientras realizaba trabajo social con comunidades del Bajío. Allí adquirió su gran amor por las comunidades indígenas. \n\n\n\nHa participado en más de 70 exposiciones colectivas y 7 individuales\, nacionales e internacionales. Tras colaborar 10 años con APIS Sureste\, Fundación para la equidad A. C. en el Refugio para mujeres víctimas de maltrato extremo\, inició un libro sobre su trabajo con el textil\, y enfocó su labor a temas sociales\, en materia de salud física y mental. \n\n\n\nTrabaja con mujeres y niños con ejercicios para detectar violencia por métodos de respiración y expresión plástica\, a través del bordado. \n\n\n\nFormó parte del proyecto de investigación “Mujeres decentes de la 58. ¡Por nuestros hijos!”\, que derivó en una exposición montada en 2012 en el Museo de Arte contemporáneo Ateneo de Yucatán; el Museo Textil de Oaxaca\, en 2013; el Museo de la Universidad De la Salle Bajío en 2014 y en Dinamarca en 2016. \n\n\n\nPosteriormente colaboró en un libro homónimo en 2016 con la historia de 22 sexoservidoras que destaca su condición humana. Fue desarrollado con Christian Rasmussen y Gabriel Ramírez.
URL:https://filey.org/cartelera-evento/retrospectiva-de-una-aguja/
ATTACH;FMTTYPE=image/png:https://filey.org/wp-content/uploads/2021/09/Captura-de-Pantalla-2021-09-21-a-las-15.08.29.png
END:VEVENT
END:VCALENDAR