BEGIN:VCALENDAR
VERSION:2.0
PRODID:-//FILEY - ECPv5.14.2.1//NONSGML v1.0//EN
CALSCALE:GREGORIAN
METHOD:PUBLISH
X-WR-CALNAME:FILEY
X-ORIGINAL-URL:https://filey.org
X-WR-CALDESC:Eventos para FILEY
REFRESH-INTERVAL;VALUE=DURATION:PT1H
X-Robots-Tag:noindex
X-PUBLISHED-TTL:PT1H
BEGIN:VTIMEZONE
TZID:America/Merida
BEGIN:DAYLIGHT
TZOFFSETFROM:-0600
TZOFFSETTO:-0500
TZNAME:CDT
DTSTART:20210404T080000
END:DAYLIGHT
BEGIN:STANDARD
TZOFFSETFROM:-0500
TZOFFSETTO:-0600
TZNAME:CST
DTSTART:20211031T070000
END:STANDARD
END:VTIMEZONE
BEGIN:VEVENT
DTSTART;TZID=America/Merida:20211026T193000
DTEND;TZID=America/Merida:20211026T203000
DTSTAMP:20260421T083256
CREATED:20211025T200040Z
LAST-MODIFIED:20211029T194126Z
UID:5223-1635276600-1635280200@filey.org
SUMMARY:¿Por qué nos mentimos si nos amamos?
DESCRIPTION:Te invitamos a que nos acompañes en la presentación del libro ¿Por qué nos mentimos si nos amamos? de la psicoterapeuta Tere Díaz Sendra. El título contiene herramientas para sanar una infidelidad y renovar los pactos amorosos.
URL:https://filey.org/cartelera-evento/por-que-nos-mentimos-si-nos-amamos/
ATTACH;FMTTYPE=image/jpeg:https://filey.org/wp-content/uploads/2021/10/WhatsApp-Image-2021-10-22-at-1.03.08-PM-1-1.jpeg
END:VEVENT
END:VCALENDAR