BEGIN:VCALENDAR
VERSION:2.0
PRODID:-//FILEY - ECPv5.14.2.1//NONSGML v1.0//EN
CALSCALE:GREGORIAN
METHOD:PUBLISH
X-WR-CALNAME:FILEY
X-ORIGINAL-URL:https://filey.org
X-WR-CALDESC:Eventos para FILEY
REFRESH-INTERVAL;VALUE=DURATION:PT1H
X-Robots-Tag:noindex
X-PUBLISHED-TTL:PT1H
BEGIN:VTIMEZONE
TZID:America/Merida
BEGIN:DAYLIGHT
TZOFFSETFROM:-0600
TZOFFSETTO:-0500
TZNAME:CDT
DTSTART:20210404T080000
END:DAYLIGHT
BEGIN:STANDARD
TZOFFSETFROM:-0500
TZOFFSETTO:-0600
TZNAME:CST
DTSTART:20211031T070000
END:STANDARD
END:VTIMEZONE
BEGIN:VEVENT
DTSTART;TZID=America/Merida:20211006T190000
DTEND;TZID=America/Merida:20211006T200000
DTSTAMP:20260422T182403
CREATED:20210927T194751Z
LAST-MODIFIED:20210927T195024Z
UID:5021-1633546800-1633550400@filey.org
SUMMARY:Perfectamente imperfecta
DESCRIPTION:Los invitamos a la próxima actividad que compartimos con Planeta de Libros México: la presentación del libro «Perfectamente imperfecta» de Kalinda Kano. Este título es una herramienta para aprender a lidiar los momentos de crisis y mejorar el balance mental y emocional.
URL:https://filey.org/cartelera-evento/perfectamente-imperfecta/
ATTACH;FMTTYPE=image/png:https://filey.org/wp-content/uploads/2021/09/Captura-de-Pantalla-2021-09-27-a-las-13.59.22.png
END:VEVENT
END:VCALENDAR