BEGIN:VCALENDAR
VERSION:2.0
PRODID:-//FILEY - ECPv5.14.2.1//NONSGML v1.0//EN
CALSCALE:GREGORIAN
METHOD:PUBLISH
X-WR-CALNAME:FILEY
X-ORIGINAL-URL:https://filey.org
X-WR-CALDESC:Eventos para FILEY
REFRESH-INTERVAL;VALUE=DURATION:PT1H
X-Robots-Tag:noindex
X-PUBLISHED-TTL:PT1H
BEGIN:VTIMEZONE
TZID:America/Merida
BEGIN:DAYLIGHT
TZOFFSETFROM:-0600
TZOFFSETTO:-0500
TZNAME:CDT
DTSTART:20210404T080000
END:DAYLIGHT
BEGIN:STANDARD
TZOFFSETFROM:-0500
TZOFFSETTO:-0600
TZNAME:CST
DTSTART:20211031T070000
END:STANDARD
END:VTIMEZONE
BEGIN:VEVENT
DTSTART;TZID=America/Merida:20211105T170000
DTEND;TZID=America/Merida:20211105T180000
DTSTAMP:20260421T052226
CREATED:20211029T183445Z
LAST-MODIFIED:20211029T194214Z
UID:5238-1636131600-1636135200@filey.org
SUMMARY:Frontera entre vivos y muertos en la literatura maya contemporánea
DESCRIPTION:Charla «Frontera entre vivos y muertos en la literatura maya contemporánea» y premiación del concurso “U suut k pixano’ob”.  \n\n\n\nParticipan Georgina Nataschia Rodríguez Lara\, Luis Villanueva Padilla y los estudiantes premiados.  
URL:https://filey.org/cartelera-evento/frontera-entre-vivos-y-muertos/
ATTACH;FMTTYPE=image/jpeg:https://filey.org/wp-content/uploads/2021/10/WhatsApp-Image-2021-10-29-at-12.49.51-PM.jpeg
END:VEVENT
END:VCALENDAR